BEGIN:VCALENDAR
VERSION:2.0
NAME:Abfuhrtermine Oberwaltersdorf
X-WR-CALNAME:Abfuhrtermine Oberwaltersdorf
BEGIN:VTIMEZONE
TZID:Europe/Vienna
BEGIN:STANDARD
DTSTART:20251026T030000Z
TZOFFSETFROM:+0200
TZOFFSETTO:+0100
END:STANDARD
BEGIN:DAYLIGHT
DTSTART:20260329T020000Z
TZOFFSETFROM:+0100
TZOFFSETTO:+0200
END:DAYLIGHT
BEGIN:STANDARD
DTSTART:20261025T030000Z
TZOFFSETFROM:+0200
TZOFFSETTO:+0100
END:STANDARD
BEGIN:DAYLIGHT
DTSTART:20270328T020000Z
TZOFFSETFROM:+0100
TZOFFSETTO:+0200
END:DAYLIGHT
END:VTIMEZONE
	

BEGIN:VEVENT
	
UID: umweltverbaende.at-79029483
DTSTAMP:20260211T100000Z
DTSTART;TZID=Europe/Vienna:20260102T060000
DTEND;TZID=Europe/Vienna:20260102T060000
LOCATION;ENCODING=QUOTED-PRINTABLE:Oberwaltersdorf
SUMMARY;ENCODING=QUOTED-PRINTABLE:Abholung Biotonne
DESCRIPTION;ENCODING=QUOTED-PRINTABLE:Abholung Biotonne
PRIORITY:3
	
END:VEVENT

	

BEGIN:VEVENT
	
UID: umweltverbaende.at-70743526
DTSTAMP:20260211T100000Z
DTSTART;TZID=Europe/Vienna:20260109T060000
DTEND;TZID=Europe/Vienna:20260109T060000
LOCATION;ENCODING=QUOTED-PRINTABLE:Oberwaltersdorf
SUMMARY;ENCODING=QUOTED-PRINTABLE:Abholung Restmuell
DESCRIPTION;ENCODING=QUOTED-PRINTABLE:Abholung Restmuell
PRIORITY:3
	
END:VEVENT

	

BEGIN:VEVENT
	
UID: umweltverbaende.at-48717243
DTSTAMP:20260211T100000Z
DTSTART;TZID=Europe/Vienna:20260115T060000
DTEND;TZID=Europe/Vienna:20260115T060000
LOCATION;ENCODING=QUOTED-PRINTABLE:Oberwaltersdorf
SUMMARY;ENCODING=QUOTED-PRINTABLE:Abholung Biotonne
DESCRIPTION;ENCODING=QUOTED-PRINTABLE:Abholung Biotonne
PRIORITY:3
	
END:VEVENT

	

BEGIN:VEVENT
	
UID: umweltverbaende.at-88238168
DTSTAMP:20260211T100000Z
DTSTART;TZID=Europe/Vienna:20260119T060000
DTEND;TZID=Europe/Vienna:20260119T060000
LOCATION;ENCODING=QUOTED-PRINTABLE:Oberwaltersdorf
SUMMARY;ENCODING=QUOTED-PRINTABLE:Abholung Gelber Sack
DESCRIPTION;ENCODING=QUOTED-PRINTABLE:Abholung Gelber Sack
PRIORITY:3
	
END:VEVENT

	

BEGIN:VEVENT
	
UID: umweltverbaende.at-69675392
DTSTAMP:20260211T100000Z
DTSTART;TZID=Europe/Vienna:20260129T060000
DTEND;TZID=Europe/Vienna:20260129T060000
LOCATION;ENCODING=QUOTED-PRINTABLE:Oberwaltersdorf
SUMMARY;ENCODING=QUOTED-PRINTABLE:Abholung Biotonne
DESCRIPTION;ENCODING=QUOTED-PRINTABLE:Abholung Biotonne
PRIORITY:3
	
END:VEVENT

	

BEGIN:VEVENT
	
UID: umweltverbaende.at-51921642
DTSTAMP:20260211T100000Z
DTSTART;TZID=Europe/Vienna:20260206T060000
DTEND;TZID=Europe/Vienna:20260206T060000
LOCATION;ENCODING=QUOTED-PRINTABLE:Oberwaltersdorf
SUMMARY;ENCODING=QUOTED-PRINTABLE:Abholung Restmuell
DESCRIPTION;ENCODING=QUOTED-PRINTABLE:Abholung Restmuell
PRIORITY:3
	
END:VEVENT

	

BEGIN:VEVENT
	
UID: umweltverbaende.at-78624970
DTSTAMP:20260211T100000Z
DTSTART;TZID=Europe/Vienna:20260212T060000
DTEND;TZID=Europe/Vienna:20260212T060000
LOCATION;ENCODING=QUOTED-PRINTABLE:Oberwaltersdorf
SUMMARY;ENCODING=QUOTED-PRINTABLE:Abholung Biotonne
DESCRIPTION;ENCODING=QUOTED-PRINTABLE:Abholung Biotonne
PRIORITY:3
	
END:VEVENT

	

BEGIN:VEVENT
	
UID: umweltverbaende.at-98514987
DTSTAMP:20260211T100000Z
DTSTART;TZID=Europe/Vienna:20260226T060000
DTEND;TZID=Europe/Vienna:20260226T060000
LOCATION;ENCODING=QUOTED-PRINTABLE:Oberwaltersdorf
SUMMARY;ENCODING=QUOTED-PRINTABLE:Abholung Biotonne
DESCRIPTION;ENCODING=QUOTED-PRINTABLE:Abholung Biotonne
PRIORITY:3
	
END:VEVENT

	

BEGIN:VEVENT
	
UID: umweltverbaende.at-65402860
DTSTAMP:20260211T100000Z
DTSTART;TZID=Europe/Vienna:20260302T060000
DTEND;TZID=Europe/Vienna:20260302T060000
LOCATION;ENCODING=QUOTED-PRINTABLE:Oberwaltersdorf
SUMMARY;ENCODING=QUOTED-PRINTABLE:Abholung Gelber Sack
DESCRIPTION;ENCODING=QUOTED-PRINTABLE:Abholung Gelber Sack
PRIORITY:3
	
END:VEVENT

	

BEGIN:VEVENT
	
UID: umweltverbaende.at-64739240
DTSTAMP:20260211T100000Z
DTSTART;TZID=Europe/Vienna:20260306T060000
DTEND;TZID=Europe/Vienna:20260306T060000
LOCATION;ENCODING=QUOTED-PRINTABLE:Oberwaltersdorf
SUMMARY;ENCODING=QUOTED-PRINTABLE:Abholung Restmuell
DESCRIPTION;ENCODING=QUOTED-PRINTABLE:Abholung Restmuell
PRIORITY:3
	
END:VEVENT

	

BEGIN:VEVENT
	
UID: umweltverbaende.at-40172178
DTSTAMP:20260211T100000Z
DTSTART;TZID=Europe/Vienna:20260312T060000
DTEND;TZID=Europe/Vienna:20260312T060000
LOCATION;ENCODING=QUOTED-PRINTABLE:Oberwaltersdorf
SUMMARY;ENCODING=QUOTED-PRINTABLE:Abholung Biotonne
DESCRIPTION;ENCODING=QUOTED-PRINTABLE:Abholung Biotonne
PRIORITY:3
	
END:VEVENT

	

BEGIN:VEVENT
	
UID: umweltverbaende.at-13873363
DTSTAMP:20260211T100000Z
DTSTART;TZID=Europe/Vienna:20260326T060000
DTEND;TZID=Europe/Vienna:20260326T060000
LOCATION;ENCODING=QUOTED-PRINTABLE:Oberwaltersdorf
SUMMARY;ENCODING=QUOTED-PRINTABLE:Abholung Biotonne
DESCRIPTION;ENCODING=QUOTED-PRINTABLE:Abholung Biotonne
PRIORITY:3
	
END:VEVENT

	

BEGIN:VEVENT
	
UID: umweltverbaende.at-66211886
DTSTAMP:20260211T100000Z
DTSTART;TZID=Europe/Vienna:20260403T060000
DTEND;TZID=Europe/Vienna:20260403T060000
LOCATION;ENCODING=QUOTED-PRINTABLE:Oberwaltersdorf
SUMMARY;ENCODING=QUOTED-PRINTABLE:Abholung Restmuell
DESCRIPTION;ENCODING=QUOTED-PRINTABLE:Abholung Restmuell
PRIORITY:3
	
END:VEVENT

	

BEGIN:VEVENT
	
UID: umweltverbaende.at-9196318
DTSTAMP:20260211T100000Z
DTSTART;TZID=Europe/Vienna:20260409T060000
DTEND;TZID=Europe/Vienna:20260409T060000
LOCATION;ENCODING=QUOTED-PRINTABLE:Oberwaltersdorf
SUMMARY;ENCODING=QUOTED-PRINTABLE:Abholung Biotonne
DESCRIPTION;ENCODING=QUOTED-PRINTABLE:Abholung Biotonne
PRIORITY:3
	
END:VEVENT

	

BEGIN:VEVENT
	
UID: umweltverbaende.at-33358866
DTSTAMP:20260211T100000Z
DTSTART;TZID=Europe/Vienna:20260413T060000
DTEND;TZID=Europe/Vienna:20260413T060000
LOCATION;ENCODING=QUOTED-PRINTABLE:Oberwaltersdorf
SUMMARY;ENCODING=QUOTED-PRINTABLE:Abholung Altpapier
DESCRIPTION;ENCODING=QUOTED-PRINTABLE:Abholung Altpapier
PRIORITY:3
	
END:VEVENT

	

BEGIN:VEVENT
	
UID: umweltverbaende.at-60871220
DTSTAMP:20260211T100000Z
DTSTART;TZID=Europe/Vienna:20260413T060000
DTEND;TZID=Europe/Vienna:20260413T060000
LOCATION;ENCODING=QUOTED-PRINTABLE:Oberwaltersdorf
SUMMARY;ENCODING=QUOTED-PRINTABLE:Abholung Gelber Sack
DESCRIPTION;ENCODING=QUOTED-PRINTABLE:Abholung Gelber Sack
PRIORITY:3
	
END:VEVENT

	

BEGIN:VEVENT
	
UID: umweltverbaende.at-25218314
DTSTAMP:20260211T100000Z
DTSTART;TZID=Europe/Vienna:20260416T060000
DTEND;TZID=Europe/Vienna:20260416T060000
LOCATION;ENCODING=QUOTED-PRINTABLE:Oberwaltersdorf
SUMMARY;ENCODING=QUOTED-PRINTABLE:Abholung Biotonne
DESCRIPTION;ENCODING=QUOTED-PRINTABLE:Abholung Biotonne
PRIORITY:3
	
END:VEVENT

	

BEGIN:VEVENT
	
UID: umweltverbaende.at-58734954
DTSTAMP:20260211T100000Z
DTSTART;TZID=Europe/Vienna:20260423T060000
DTEND;TZID=Europe/Vienna:20260423T060000
LOCATION;ENCODING=QUOTED-PRINTABLE:Oberwaltersdorf
SUMMARY;ENCODING=QUOTED-PRINTABLE:Abholung Biotonne
DESCRIPTION;ENCODING=QUOTED-PRINTABLE:Abholung Biotonne
PRIORITY:3
	
END:VEVENT

	

BEGIN:VEVENT
	
UID: umweltverbaende.at-31627113
DTSTAMP:20260211T100000Z
DTSTART;TZID=Europe/Vienna:20260430T060000
DTEND;TZID=Europe/Vienna:20260430T060000
LOCATION;ENCODING=QUOTED-PRINTABLE:Oberwaltersdorf
SUMMARY;ENCODING=QUOTED-PRINTABLE:Abholung Restmuell
DESCRIPTION;ENCODING=QUOTED-PRINTABLE:Abholung Restmuell
PRIORITY:3
	
END:VEVENT

	

BEGIN:VEVENT
	
UID: umweltverbaende.at-39508558
DTSTAMP:20260211T100000Z
DTSTART;TZID=Europe/Vienna:20260430T060000
DTEND;TZID=Europe/Vienna:20260430T060000
LOCATION;ENCODING=QUOTED-PRINTABLE:Oberwaltersdorf
SUMMARY;ENCODING=QUOTED-PRINTABLE:Abholung Biotonne
DESCRIPTION;ENCODING=QUOTED-PRINTABLE:Abholung Biotonne
PRIORITY:3
	
END:VEVENT

	

BEGIN:VEVENT
	
UID: umweltverbaende.at-89306301
DTSTAMP:20260211T100000Z
DTSTART;TZID=Europe/Vienna:20260507T060000
DTEND;TZID=Europe/Vienna:20260507T060000
LOCATION;ENCODING=QUOTED-PRINTABLE:Oberwaltersdorf
SUMMARY;ENCODING=QUOTED-PRINTABLE:Abholung Biotonne
DESCRIPTION;ENCODING=QUOTED-PRINTABLE:Abholung Biotonne
PRIORITY:3
	
END:VEVENT

	

BEGIN:VEVENT
	
UID: umweltverbaende.at-66470993
DTSTAMP:20260211T100000Z
DTSTART;TZID=Europe/Vienna:20260515T060000
DTEND;TZID=Europe/Vienna:20260515T060000
LOCATION;ENCODING=QUOTED-PRINTABLE:Oberwaltersdorf
SUMMARY;ENCODING=QUOTED-PRINTABLE:Abholung Biotonne
DESCRIPTION;ENCODING=QUOTED-PRINTABLE:Abholung Biotonne
PRIORITY:3
	
END:VEVENT

	

BEGIN:VEVENT
	
UID: umweltverbaende.at-61534840
DTSTAMP:20260211T100000Z
DTSTART;TZID=Europe/Vienna:20260521T060000
DTEND;TZID=Europe/Vienna:20260521T060000
LOCATION;ENCODING=QUOTED-PRINTABLE:Oberwaltersdorf
SUMMARY;ENCODING=QUOTED-PRINTABLE:Abholung Biotonne
DESCRIPTION;ENCODING=QUOTED-PRINTABLE:Abholung Biotonne
PRIORITY:3
	
END:VEVENT

	

BEGIN:VEVENT
	
UID: umweltverbaende.at-49785376
DTSTAMP:20260211T100000Z
DTSTART;TZID=Europe/Vienna:20260522T060000
DTEND;TZID=Europe/Vienna:20260522T060000
LOCATION;ENCODING=QUOTED-PRINTABLE:Oberwaltersdorf
SUMMARY;ENCODING=QUOTED-PRINTABLE:Abholung Gelber Sack
DESCRIPTION;ENCODING=QUOTED-PRINTABLE:Abholung Gelber Sack
PRIORITY:3
	
END:VEVENT

	

BEGIN:VEVENT
	
UID: umweltverbaende.at-85033769
DTSTAMP:20260211T100000Z
DTSTART;TZID=Europe/Vienna:20260528T060000
DTEND;TZID=Europe/Vienna:20260528T060000
LOCATION;ENCODING=QUOTED-PRINTABLE:Oberwaltersdorf
SUMMARY;ENCODING=QUOTED-PRINTABLE:Abholung Biotonne
DESCRIPTION;ENCODING=QUOTED-PRINTABLE:Abholung Biotonne
PRIORITY:3
	
END:VEVENT

	

BEGIN:VEVENT
	
UID: umweltverbaende.at-79288590
DTSTAMP:20260211T100000Z
DTSTART;TZID=Europe/Vienna:20260529T060000
DTEND;TZID=Europe/Vienna:20260529T060000
LOCATION;ENCODING=QUOTED-PRINTABLE:Oberwaltersdorf
SUMMARY;ENCODING=QUOTED-PRINTABLE:Abholung Restmuell
DESCRIPTION;ENCODING=QUOTED-PRINTABLE:Abholung Restmuell
PRIORITY:3
	
END:VEVENT

	

BEGIN:VEVENT
	
UID: umweltverbaende.at-23082048
DTSTAMP:20260211T100000Z
DTSTART;TZID=Europe/Vienna:20260605T060000
DTEND;TZID=Europe/Vienna:20260605T060000
LOCATION;ENCODING=QUOTED-PRINTABLE:Oberwaltersdorf
SUMMARY;ENCODING=QUOTED-PRINTABLE:Abholung Biotonne
DESCRIPTION;ENCODING=QUOTED-PRINTABLE:Abholung Biotonne
PRIORITY:3
	
END:VEVENT

	

BEGIN:VEVENT
	
UID: umweltverbaende.at-65143753
DTSTAMP:20260211T100000Z
DTSTART;TZID=Europe/Vienna:20260611T060000
DTEND;TZID=Europe/Vienna:20260611T060000
LOCATION;ENCODING=QUOTED-PRINTABLE:Oberwaltersdorf
SUMMARY;ENCODING=QUOTED-PRINTABLE:Abholung Biotonne
DESCRIPTION;ENCODING=QUOTED-PRINTABLE:Abholung Biotonne
PRIORITY:3
	
END:VEVENT

	

BEGIN:VEVENT
	
UID: umweltverbaende.at-12400717
DTSTAMP:20260211T100000Z
DTSTART;TZID=Europe/Vienna:20260615T060000
DTEND;TZID=Europe/Vienna:20260615T060000
LOCATION;ENCODING=QUOTED-PRINTABLE:Oberwaltersdorf
SUMMARY;ENCODING=QUOTED-PRINTABLE:Abholung Altpapier
DESCRIPTION;ENCODING=QUOTED-PRINTABLE:Abholung Altpapier
PRIORITY:3
	
END:VEVENT

	

BEGIN:VEVENT
	
UID: umweltverbaende.at-23745668
DTSTAMP:20260211T100000Z
DTSTART;TZID=Europe/Vienna:20260618T060000
DTEND;TZID=Europe/Vienna:20260618T060000
LOCATION;ENCODING=QUOTED-PRINTABLE:Oberwaltersdorf
SUMMARY;ENCODING=QUOTED-PRINTABLE:Abholung Biotonne
DESCRIPTION;ENCODING=QUOTED-PRINTABLE:Abholung Biotonne
PRIORITY:3
	
END:VEVENT

	

BEGIN:VEVENT
	
UID: umweltverbaende.at-16268737
DTSTAMP:20260211T100000Z
DTSTART;TZID=Europe/Vienna:20260625T060000
DTEND;TZID=Europe/Vienna:20260625T060000
LOCATION;ENCODING=QUOTED-PRINTABLE:Oberwaltersdorf
SUMMARY;ENCODING=QUOTED-PRINTABLE:Abholung Biotonne
DESCRIPTION;ENCODING=QUOTED-PRINTABLE:Abholung Biotonne
PRIORITY:3
	
END:VEVENT

	

BEGIN:VEVENT
	
UID: umweltverbaende.at-38699532
DTSTAMP:20260211T100000Z
DTSTART;TZID=Europe/Vienna:20260626T060000
DTEND;TZID=Europe/Vienna:20260626T060000
LOCATION;ENCODING=QUOTED-PRINTABLE:Oberwaltersdorf
SUMMARY;ENCODING=QUOTED-PRINTABLE:Abholung Restmuell
DESCRIPTION;ENCODING=QUOTED-PRINTABLE:Abholung Restmuell
PRIORITY:3
	
END:VEVENT

	

BEGIN:VEVENT
	
UID: umweltverbaende.at-44849223
DTSTAMP:20260211T100000Z
DTSTART;TZID=Europe/Vienna:20260702T060000
DTEND;TZID=Europe/Vienna:20260702T060000
LOCATION;ENCODING=QUOTED-PRINTABLE:Oberwaltersdorf
SUMMARY;ENCODING=QUOTED-PRINTABLE:Abholung Biotonne
DESCRIPTION;ENCODING=QUOTED-PRINTABLE:Abholung Biotonne
PRIORITY:3
	
END:VEVENT

	

BEGIN:VEVENT
	
UID: umweltverbaende.at-73284305
DTSTAMP:20260211T100000Z
DTSTART;TZID=Europe/Vienna:20260706T060000
DTEND;TZID=Europe/Vienna:20260706T060000
LOCATION;ENCODING=QUOTED-PRINTABLE:Oberwaltersdorf
SUMMARY;ENCODING=QUOTED-PRINTABLE:Abholung Gelber Sack
DESCRIPTION;ENCODING=QUOTED-PRINTABLE:Abholung Gelber Sack
PRIORITY:3
	
END:VEVENT

	

BEGIN:VEVENT
	
UID: umweltverbaende.at-3704769
DTSTAMP:20260211T100000Z
DTSTART;TZID=Europe/Vienna:20260709T060000
DTEND;TZID=Europe/Vienna:20260709T060000
LOCATION;ENCODING=QUOTED-PRINTABLE:Oberwaltersdorf
SUMMARY;ENCODING=QUOTED-PRINTABLE:Abholung Biotonne
DESCRIPTION;ENCODING=QUOTED-PRINTABLE:Abholung Biotonne
PRIORITY:3
	
END:VEVENT

	

BEGIN:VEVENT
	
UID: umweltverbaende.at-6504655
DTSTAMP:20260211T100000Z
DTSTART;TZID=Europe/Vienna:20260716T060000
DTEND;TZID=Europe/Vienna:20260716T060000
LOCATION;ENCODING=QUOTED-PRINTABLE:Oberwaltersdorf
SUMMARY;ENCODING=QUOTED-PRINTABLE:Abholung Biotonne
DESCRIPTION;ENCODING=QUOTED-PRINTABLE:Abholung Biotonne
PRIORITY:3
	
END:VEVENT

	

BEGIN:VEVENT
	
UID: umweltverbaende.at-24662918
DTSTAMP:20260211T100000Z
DTSTART;TZID=Europe/Vienna:20260723T060000
DTEND;TZID=Europe/Vienna:20260723T060000
LOCATION;ENCODING=QUOTED-PRINTABLE:Oberwaltersdorf
SUMMARY;ENCODING=QUOTED-PRINTABLE:Abholung Biotonne
DESCRIPTION;ENCODING=QUOTED-PRINTABLE:Abholung Biotonne
PRIORITY:3
	
END:VEVENT

	

BEGIN:VEVENT
	
UID: umweltverbaende.at-43630207
DTSTAMP:20260211T100000Z
DTSTART;TZID=Europe/Vienna:20260724T060000
DTEND;TZID=Europe/Vienna:20260724T060000
LOCATION;ENCODING=QUOTED-PRINTABLE:Oberwaltersdorf
SUMMARY;ENCODING=QUOTED-PRINTABLE:Abholung Restmuell
DESCRIPTION;ENCODING=QUOTED-PRINTABLE:Abholung Restmuell
PRIORITY:3
	
END:VEVENT

	

BEGIN:VEVENT
	
UID: umweltverbaende.at-33612496
DTSTAMP:20260211T100000Z
DTSTART;TZID=Europe/Vienna:20260730T060000
DTEND;TZID=Europe/Vienna:20260730T060000
LOCATION;ENCODING=QUOTED-PRINTABLE:Oberwaltersdorf
SUMMARY;ENCODING=QUOTED-PRINTABLE:Abholung Biotonne
DESCRIPTION;ENCODING=QUOTED-PRINTABLE:Abholung Biotonne
PRIORITY:3
	
END:VEVENT

	

BEGIN:VEVENT
	
UID: umweltverbaende.at-90223551
DTSTAMP:20260211T100000Z
DTSTART;TZID=Europe/Vienna:20260806T060000
DTEND;TZID=Europe/Vienna:20260806T060000
LOCATION;ENCODING=QUOTED-PRINTABLE:Oberwaltersdorf
SUMMARY;ENCODING=QUOTED-PRINTABLE:Abholung Biotonne
DESCRIPTION;ENCODING=QUOTED-PRINTABLE:Abholung Biotonne
PRIORITY:3
	
END:VEVENT

	

BEGIN:VEVENT
	
UID: umweltverbaende.at-20390386
DTSTAMP:20260211T100000Z
DTSTART;TZID=Europe/Vienna:20260813T060000
DTEND;TZID=Europe/Vienna:20260813T060000
LOCATION;ENCODING=QUOTED-PRINTABLE:Oberwaltersdorf
SUMMARY;ENCODING=QUOTED-PRINTABLE:Abholung Biotonne
DESCRIPTION;ENCODING=QUOTED-PRINTABLE:Abholung Biotonne
PRIORITY:3
	
END:VEVENT

	

BEGIN:VEVENT
	
UID: umweltverbaende.at-56447804
DTSTAMP:20260211T100000Z
DTSTART;TZID=Europe/Vienna:20260817T060000
DTEND;TZID=Europe/Vienna:20260817T060000
LOCATION;ENCODING=QUOTED-PRINTABLE:Oberwaltersdorf
SUMMARY;ENCODING=QUOTED-PRINTABLE:Abholung Altpapier
DESCRIPTION;ENCODING=QUOTED-PRINTABLE:Abholung Altpapier
PRIORITY:3
	
END:VEVENT

	

BEGIN:VEVENT
	
UID: umweltverbaende.at-95159704
DTSTAMP:20260211T100000Z
DTSTART;TZID=Europe/Vienna:20260817T060000
DTEND;TZID=Europe/Vienna:20260817T060000
LOCATION;ENCODING=QUOTED-PRINTABLE:Oberwaltersdorf
SUMMARY;ENCODING=QUOTED-PRINTABLE:Abholung Gelber Sack
DESCRIPTION;ENCODING=QUOTED-PRINTABLE:Abholung Gelber Sack
PRIORITY:3
	
END:VEVENT

	

BEGIN:VEVENT
	
UID: umweltverbaende.at-32139850
DTSTAMP:20260211T100000Z
DTSTART;TZID=Europe/Vienna:20260820T060000
DTEND;TZID=Europe/Vienna:20260820T060000
LOCATION;ENCODING=QUOTED-PRINTABLE:Oberwaltersdorf
SUMMARY;ENCODING=QUOTED-PRINTABLE:Abholung Biotonne
DESCRIPTION;ENCODING=QUOTED-PRINTABLE:Abholung Biotonne
PRIORITY:3
	
END:VEVENT

	

BEGIN:VEVENT
	
UID: umweltverbaende.at-21199412
DTSTAMP:20260211T100000Z
DTSTART;TZID=Europe/Vienna:20260821T060000
DTEND;TZID=Europe/Vienna:20260821T060000
LOCATION;ENCODING=QUOTED-PRINTABLE:Oberwaltersdorf
SUMMARY;ENCODING=QUOTED-PRINTABLE:Abholung Restmuell
DESCRIPTION;ENCODING=QUOTED-PRINTABLE:Abholung Restmuell
PRIORITY:3
	
END:VEVENT

	

BEGIN:VEVENT
	
UID: umweltverbaende.at-904882
DTSTAMP:20260211T100000Z
DTSTART;TZID=Europe/Vienna:20260827T060000
DTEND;TZID=Europe/Vienna:20260827T060000
LOCATION;ENCODING=QUOTED-PRINTABLE:Oberwaltersdorf
SUMMARY;ENCODING=QUOTED-PRINTABLE:Abholung Biotonne
DESCRIPTION;ENCODING=QUOTED-PRINTABLE:Abholung Biotonne
PRIORITY:3
	
END:VEVENT

	

BEGIN:VEVENT
	
UID: umweltverbaende.at-61788470
DTSTAMP:20260211T100000Z
DTSTART;TZID=Europe/Vienna:20260903T060000
DTEND;TZID=Europe/Vienna:20260903T060000
LOCATION;ENCODING=QUOTED-PRINTABLE:Oberwaltersdorf
SUMMARY;ENCODING=QUOTED-PRINTABLE:Abholung Biotonne
DESCRIPTION;ENCODING=QUOTED-PRINTABLE:Abholung Biotonne
PRIORITY:3
	
END:VEVENT

	

BEGIN:VEVENT
	
UID: umweltverbaende.at-79137707
DTSTAMP:20260211T100000Z
DTSTART;TZID=Europe/Vienna:20260910T060000
DTEND;TZID=Europe/Vienna:20260910T060000
LOCATION;ENCODING=QUOTED-PRINTABLE:Oberwaltersdorf
SUMMARY;ENCODING=QUOTED-PRINTABLE:Abholung Biotonne
DESCRIPTION;ENCODING=QUOTED-PRINTABLE:Abholung Biotonne
PRIORITY:3
	
END:VEVENT

	

BEGIN:VEVENT
	
UID: umweltverbaende.at-80205840
DTSTAMP:20260211T100000Z
DTSTART;TZID=Europe/Vienna:20260917T060000
DTEND;TZID=Europe/Vienna:20260917T060000
LOCATION;ENCODING=QUOTED-PRINTABLE:Oberwaltersdorf
SUMMARY;ENCODING=QUOTED-PRINTABLE:Abholung Biotonne
DESCRIPTION;ENCODING=QUOTED-PRINTABLE:Abholung Biotonne
PRIORITY:3
	
END:VEVENT

	

BEGIN:VEVENT
	
UID: umweltverbaende.at-77001441
DTSTAMP:20260211T100000Z
DTSTART;TZID=Europe/Vienna:20260918T060000
DTEND;TZID=Europe/Vienna:20260918T060000
LOCATION;ENCODING=QUOTED-PRINTABLE:Oberwaltersdorf
SUMMARY;ENCODING=QUOTED-PRINTABLE:Abholung Restmuell
DESCRIPTION;ENCODING=QUOTED-PRINTABLE:Abholung Restmuell
PRIORITY:3
	
END:VEVENT

	

BEGIN:VEVENT
	
UID: umweltverbaende.at-86614639
DTSTAMP:20260211T100000Z
DTSTART;TZID=Europe/Vienna:20260924T060000
DTEND;TZID=Europe/Vienna:20260924T060000
LOCATION;ENCODING=QUOTED-PRINTABLE:Oberwaltersdorf
SUMMARY;ENCODING=QUOTED-PRINTABLE:Abholung Biotonne
DESCRIPTION;ENCODING=QUOTED-PRINTABLE:Abholung Biotonne
PRIORITY:3
	
END:VEVENT

	

BEGIN:VEVENT
	
UID: umweltverbaende.at-57775045
DTSTAMP:20260211T100000Z
DTSTART;TZID=Europe/Vienna:20260928T060000
DTEND;TZID=Europe/Vienna:20260928T060000
LOCATION;ENCODING=QUOTED-PRINTABLE:Oberwaltersdorf
SUMMARY;ENCODING=QUOTED-PRINTABLE:Abholung Gelber Sack
DESCRIPTION;ENCODING=QUOTED-PRINTABLE:Abholung Gelber Sack
PRIORITY:3
	
END:VEVENT

	

BEGIN:VEVENT
	
UID: umweltverbaende.at-44293827
DTSTAMP:20260211T100000Z
DTSTART;TZID=Europe/Vienna:20261001T060000
DTEND;TZID=Europe/Vienna:20261001T060000
LOCATION;ENCODING=QUOTED-PRINTABLE:Oberwaltersdorf
SUMMARY;ENCODING=QUOTED-PRINTABLE:Abholung Biotonne
DESCRIPTION;ENCODING=QUOTED-PRINTABLE:Abholung Biotonne
PRIORITY:3
	
END:VEVENT

	

BEGIN:VEVENT
	
UID: umweltverbaende.at-58179558
DTSTAMP:20260211T100000Z
DTSTART;TZID=Europe/Vienna:20261008T060000
DTEND;TZID=Europe/Vienna:20261008T060000
LOCATION;ENCODING=QUOTED-PRINTABLE:Oberwaltersdorf
SUMMARY;ENCODING=QUOTED-PRINTABLE:Abholung Biotonne
DESCRIPTION;ENCODING=QUOTED-PRINTABLE:Abholung Biotonne
PRIORITY:3
	
END:VEVENT

	

BEGIN:VEVENT
	
UID: umweltverbaende.at-16522366
DTSTAMP:20260211T100000Z
DTSTART;TZID=Europe/Vienna:20261016T060000
DTEND;TZID=Europe/Vienna:20261016T060000
LOCATION;ENCODING=QUOTED-PRINTABLE:Oberwaltersdorf
SUMMARY;ENCODING=QUOTED-PRINTABLE:Abholung Restmuell
DESCRIPTION;ENCODING=QUOTED-PRINTABLE:Abholung Restmuell
PRIORITY:3
	
END:VEVENT

	

BEGIN:VEVENT
	
UID: umweltverbaende.at-41493941
DTSTAMP:20260211T100000Z
DTSTART;TZID=Europe/Vienna:20261019T060000
DTEND;TZID=Europe/Vienna:20261019T060000
LOCATION;ENCODING=QUOTED-PRINTABLE:Oberwaltersdorf
SUMMARY;ENCODING=QUOTED-PRINTABLE:Abholung Altpapier
DESCRIPTION;ENCODING=QUOTED-PRINTABLE:Abholung Altpapier
PRIORITY:3
	
END:VEVENT

	

BEGIN:VEVENT
	
UID: umweltverbaende.at-40021295
DTSTAMP:20260211T100000Z
DTSTART;TZID=Europe/Vienna:20261022T060000
DTEND;TZID=Europe/Vienna:20261022T060000
LOCATION;ENCODING=QUOTED-PRINTABLE:Oberwaltersdorf
SUMMARY;ENCODING=QUOTED-PRINTABLE:Abholung Biotonne
DESCRIPTION;ENCODING=QUOTED-PRINTABLE:Abholung Biotonne
PRIORITY:3
	
END:VEVENT

	

BEGIN:VEVENT
	
UID: umweltverbaende.at-70997155
DTSTAMP:20260211T100000Z
DTSTART;TZID=Europe/Vienna:20261105T060000
DTEND;TZID=Europe/Vienna:20261105T060000
LOCATION;ENCODING=QUOTED-PRINTABLE:Oberwaltersdorf
SUMMARY;ENCODING=QUOTED-PRINTABLE:Abholung Biotonne
DESCRIPTION;ENCODING=QUOTED-PRINTABLE:Abholung Biotonne
PRIORITY:3
	
END:VEVENT

	

BEGIN:VEVENT
	
UID: umweltverbaende.at-78069574
DTSTAMP:20260211T100000Z
DTSTART;TZID=Europe/Vienna:20261109T060000
DTEND;TZID=Europe/Vienna:20261109T060000
LOCATION;ENCODING=QUOTED-PRINTABLE:Oberwaltersdorf
SUMMARY;ENCODING=QUOTED-PRINTABLE:Abholung Gelber Sack
DESCRIPTION;ENCODING=QUOTED-PRINTABLE:Abholung Gelber Sack
PRIORITY:3
	
END:VEVENT

	

BEGIN:VEVENT
	
UID: umweltverbaende.at-83410240
DTSTAMP:20260211T100000Z
DTSTART;TZID=Europe/Vienna:20261113T060000
DTEND;TZID=Europe/Vienna:20261113T060000
LOCATION;ENCODING=QUOTED-PRINTABLE:Oberwaltersdorf
SUMMARY;ENCODING=QUOTED-PRINTABLE:Abholung Restmuell
DESCRIPTION;ENCODING=QUOTED-PRINTABLE:Abholung Restmuell
PRIORITY:3
	
END:VEVENT

	

BEGIN:VEVENT
	
UID: umweltverbaende.at-67388243
DTSTAMP:20260211T100000Z
DTSTART;TZID=Europe/Vienna:20261119T060000
DTEND;TZID=Europe/Vienna:20261119T060000
LOCATION;ENCODING=QUOTED-PRINTABLE:Oberwaltersdorf
SUMMARY;ENCODING=QUOTED-PRINTABLE:Abholung Biotonne
DESCRIPTION;ENCODING=QUOTED-PRINTABLE:Abholung Biotonne
PRIORITY:3
	
END:VEVENT

	

BEGIN:VEVENT
	
UID: umweltverbaende.at-15454233
DTSTAMP:20260211T100000Z
DTSTART;TZID=Europe/Vienna:20261203T060000
DTEND;TZID=Europe/Vienna:20261203T060000
LOCATION;ENCODING=QUOTED-PRINTABLE:Oberwaltersdorf
SUMMARY;ENCODING=QUOTED-PRINTABLE:Abholung Biotonne
DESCRIPTION;ENCODING=QUOTED-PRINTABLE:Abholung Biotonne
PRIORITY:3
	
END:VEVENT

	

BEGIN:VEVENT
	
UID: umweltverbaende.at-44698340
DTSTAMP:20260211T100000Z
DTSTART;TZID=Europe/Vienna:20261211T060000
DTEND;TZID=Europe/Vienna:20261211T060000
LOCATION;ENCODING=QUOTED-PRINTABLE:Oberwaltersdorf
SUMMARY;ENCODING=QUOTED-PRINTABLE:Abholung Restmuell
DESCRIPTION;ENCODING=QUOTED-PRINTABLE:Abholung Restmuell
PRIORITY:3
	
END:VEVENT

	

BEGIN:VEVENT
	
UID: umweltverbaende.at-30408097
DTSTAMP:20260211T100000Z
DTSTART;TZID=Europe/Vienna:20261217T060000
DTEND;TZID=Europe/Vienna:20261217T060000
LOCATION;ENCODING=QUOTED-PRINTABLE:Oberwaltersdorf
SUMMARY;ENCODING=QUOTED-PRINTABLE:Abholung Biotonne
DESCRIPTION;ENCODING=QUOTED-PRINTABLE:Abholung Biotonne
PRIORITY:3
	
END:VEVENT

	

BEGIN:VEVENT
	
UID: umweltverbaende.at-99836749
DTSTAMP:20260211T100000Z
DTSTART;TZID=Europe/Vienna:20261221T060000
DTEND;TZID=Europe/Vienna:20261221T060000
LOCATION;ENCODING=QUOTED-PRINTABLE:Oberwaltersdorf
SUMMARY;ENCODING=QUOTED-PRINTABLE:Abholung Altpapier
DESCRIPTION;ENCODING=QUOTED-PRINTABLE:Abholung Altpapier
PRIORITY:3
	
END:VEVENT

	

BEGIN:VEVENT
	
UID: umweltverbaende.at-64992869
DTSTAMP:20260211T100000Z
DTSTART;TZID=Europe/Vienna:20261221T060000
DTEND;TZID=Europe/Vienna:20261221T060000
LOCATION;ENCODING=QUOTED-PRINTABLE:Oberwaltersdorf
SUMMARY;ENCODING=QUOTED-PRINTABLE:Abholung Gelber Sack
DESCRIPTION;ENCODING=QUOTED-PRINTABLE:Abholung Gelber Sack
PRIORITY:3
	
END:VEVENT

	

BEGIN:VEVENT
	
UID: umweltverbaende.at-69524509
DTSTAMP:20260211T100000Z
DTSTART;TZID=Europe/Vienna:20261231T060000
DTEND;TZID=Europe/Vienna:20261231T060000
LOCATION;ENCODING=QUOTED-PRINTABLE:Oberwaltersdorf
SUMMARY;ENCODING=QUOTED-PRINTABLE:Abholung Biotonne
DESCRIPTION;ENCODING=QUOTED-PRINTABLE:Abholung Biotonne
PRIORITY:3
	
END:VEVENT

	

END:VCALENDAR


